BEGIN:VCALENDAR
VERSION:2.0
PRODID:-//ULTUNA STUDENTKÅR - ECPv6.15.15//NONSGML v1.0//EN
CALSCALE:GREGORIAN
METHOD:PUBLISH
X-WR-CALNAME:ULTUNA STUDENTKÅR
X-ORIGINAL-URL:https://ultunastudentkar.se
X-WR-CALDESC:Händelser för ULTUNA STUDENTKÅR
REFRESH-INTERVAL;VALUE=DURATION:PT1H
X-Robots-Tag:noindex
X-PUBLISHED-TTL:PT1H
BEGIN:VTIMEZONE
TZID:Europe/Stockholm
BEGIN:DAYLIGHT
TZOFFSETFROM:+0100
TZOFFSETTO:+0200
TZNAME:CEST
DTSTART:20240331T010000
END:DAYLIGHT
BEGIN:STANDARD
TZOFFSETFROM:+0200
TZOFFSETTO:+0100
TZNAME:CET
DTSTART:20241027T010000
END:STANDARD
BEGIN:DAYLIGHT
TZOFFSETFROM:+0100
TZOFFSETTO:+0200
TZNAME:CEST
DTSTART:20250330T010000
END:DAYLIGHT
BEGIN:STANDARD
TZOFFSETFROM:+0200
TZOFFSETTO:+0100
TZNAME:CET
DTSTART:20251026T010000
END:STANDARD
BEGIN:DAYLIGHT
TZOFFSETFROM:+0100
TZOFFSETTO:+0200
TZNAME:CEST
DTSTART:20260329T010000
END:DAYLIGHT
BEGIN:STANDARD
TZOFFSETFROM:+0200
TZOFFSETTO:+0100
TZNAME:CET
DTSTART:20261025T010000
END:STANDARD
END:VTIMEZONE
BEGIN:VEVENT
DTSTART;TZID=Europe/Stockholm:20250206T121500
DTEND;TZID=Europe/Stockholm:20250206T130000
DTSTAMP:20260420T024047
CREATED:20250205T094627Z
LAST-MODIFIED:20250205T094627Z
UID:5379-1738844100-1738846800@ultunastudentkar.se
SUMMARY:Anmälan till Kårkickoff
DESCRIPTION:Det är dags för Kårkickoff och under denna tiden kan du som Kårfuktionär komma och anmäla dig till sittningen på listorna som sitte uppe i kanslidelen på Kåren (pelaren utanför styrelserummet). Det finns ett begränsat andel med platser så se till att vara i tid! \n\nIt’s time for the Union kickoff\, and at this time\, you as a Union functionary can come and sign up for the dinner on the lists that are posted in the office area of the Uinon (on the pillar outside the boardroom). There is a limited number of spots available\, so make sure to be on time!
URL:https://ultunastudentkar.se/event/anmalan-till-karkickoff/
LOCATION:Ultuna Studentkår\, Duhrevägen 6 \, Uppsala
CATEGORIES:Evenemang för funktionärer
ATTACH;FMTTYPE=image/jpeg:https://ultunastudentkar.se/wp-content/uploads/2025/02/Karkickoff.jpg
END:VEVENT
BEGIN:VEVENT
DTSTART;TZID=Europe/Stockholm:20250214T180000
DTEND;TZID=Europe/Stockholm:20250215T020000
DTSTAMP:20260420T024047
CREATED:20250205T093939Z
LAST-MODIFIED:20250205T093939Z
UID:5376-1739556000-1739584800@ultunastudentkar.se
SUMMARY:Kårkickoff - Union Kickoff
DESCRIPTION:Styrelsen 2025 bjuder in alla Kårfunktionärer till Kårkickoff!\nAlla hjärtans dag närmar sig med stormsteg! Styrelsen 2025 bjuder därmed in alla kårfunktionärer till Kårkickoff med tema ”Kärlek”! Vare sig du har en Valentine eller inte kan du komma och fira kärleken med oss Datum: 14 februariTid: 18dkTema: KärlekMiddagen är gratis för alla kårfunktionärer och styrelser i fristående föreningar!Anmälningslistor kommer upp på torsdag 6/2 kl. 12:15 på pelaren utanför styrelserummet.Släppet är öppet kl. 23:00-02:00!Pris SLUSS-medlem: 60 krPris icke medlem: 90 kr \n\n*English* \nValentine’s day is fast approaching! The Union Board of 2025 therefore invites all union volunteers to the Union Kick Off with ”love” as the theme! Whether you have a Valentine or not you are welcome to celebrate love with us Date: February 14thTime: 18dk (dk means “dubbelkvart”\, which means “double quarter” and means you should arrive between 18:00 and 18:30)Theme: LoveThe dinner is free for union volunteers and for boards of independent associations. There will be sign-up lists up on the pillar in front of the board room in the Union House on Thursday 6/2 at 12:15.After-party is open 23:00-02:00!Price SLUSS-member: 60 krPrice non-member: 90 kr
URL:https://ultunastudentkar.se/event/karkickoff-union-kickoff/
LOCATION:Ultuna Studentkår\, Duhrevägen 6 \, Uppsala
CATEGORIES:Evenemang för funktionärer
ATTACH;FMTTYPE=image/jpeg:https://ultunastudentkar.se/wp-content/uploads/2025/02/Karkickoff.jpg
END:VEVENT
BEGIN:VEVENT
DTSTART;TZID=Europe/Stockholm:20250217T121500
DTEND;TZID=Europe/Stockholm:20250217T235900
DTSTAMP:20260420T024047
CREATED:20250213T163959Z
LAST-MODIFIED:20250213T163959Z
UID:5494-1739794500-1739836740@ultunastudentkar.se
SUMMARY:Biljettförsäljning Spexmiddagen!
DESCRIPTION:Idag kan ni som är Kårfunktionärer köpa biljetter till Spexmiddagen! \nBiljettförsäljning sker i appen orbi 🙂 \n\nToday\, you who are a Union functionary can buy tickets for the Spex Dinner! \nTicket sales are happening in the Orbi app 🙂
URL:https://ultunastudentkar.se/event/biljettforsaljning-spexmiddagen/
LOCATION:Ultuna Studentkår\, Duhrevägen 6 \, Uppsala
CATEGORIES:Evenemang för funktionärer
ATTACH;FMTTYPE=image/jpeg:https://ultunastudentkar.se/wp-content/uploads/2025/01/Spexmiddag.jpg
END:VEVENT
BEGIN:VEVENT
DTSTART;TZID=Europe/Stockholm:20250219T130000
DTEND;TZID=Europe/Stockholm:20250219T140000
DTSTAMP:20260420T024047
CREATED:20250218T143732Z
LAST-MODIFIED:20250218T143732Z
UID:5544-1739970000-1739973600@ultunastudentkar.se
SUMMARY:Funkisinfo!
DESCRIPTION:Hej alla glada kårfunktionärer!\nPå onsdag den 19/2 klockan 13.00 har ni möjlighet att bland annat lära er hur ni kommer in på kåren och hur ni sedan låser och larmar kåren när det är dags att gå. Det är den perfekta tidpunkten att ställa era frågor om kårhuset och hur saker fungerar rent praktiskt. Kom!
URL:https://ultunastudentkar.se/event/funkisinfo-3/
LOCATION:Ultuna Studentkår\, Duhrevägen 6 \, Uppsala
CATEGORIES:Evenemang för funktionärer
ATTACH;FMTTYPE=image/jpeg:https://ultunastudentkar.se/wp-content/uploads/2025/02/Ultuna-Studentkar.jpg
END:VEVENT
END:VCALENDAR